BEGIN:VCALENDAR
VERSION:2.0
PRODID:-//DeineSeite//Konzert Export//DE
BEGIN:VEVENT
UID:69ecbcc92ccf9@deine-domain.de
DTSTAMP:20260425T130825
DTSTART:20250424T193000
DTEND:20250424T213000
SUMMARY:Rolando Villazón
Sarah Tysman
DESCRIPTION:
LOCATION:Musikverein Graz
END:VEVENT
END:VCALENDAR