BEGIN:VCALENDAR
VERSION:2.0
PRODID:-//DeineSeite//Konzert Export//DE
BEGIN:VEVENT
UID:69ea14362ec7b@deine-domain.de
DTSTAMP:20260423T124438
DTSTART:20250318T193000
DTEND:20250318T213000
SUMMARY:John Axelrod
Symphonieorchester und Chor der KUG
Maria Sintow-Behrens
DESCRIPTION:
LOCATION:Musikverein Graz
END:VEVENT
END:VCALENDAR