BEGIN:VCALENDAR
VERSION:2.0
PRODID:-//DeineSeite//Konzert Export//DE
BEGIN:VEVENT
UID:69e9fac5560ed@deine-domain.de
DTSTAMP:20260423T105605
DTSTART:20250317T193000
DTEND:20250317T213000
SUMMARY:John Axelrod
Symphonieorchester und Chor der KUG
Maria Sintow-Behrens
DESCRIPTION:
LOCATION:Musikverein Graz
END:VEVENT
END:VCALENDAR