BEGIN:VCALENDAR
VERSION:2.0
PRODID:-//DeineSeite//Konzert Export//DE
BEGIN:VEVENT
UID:69e724a0eebe3@deine-domain.de
DTSTAMP:20260421T071752
DTSTART:20230622T173000
DTEND:20230622T193000
SUMMARY:Simply Tango
DESCRIPTION:
LOCATION:Kammermusiksaal
END:VEVENT
END:VCALENDAR