BEGIN:VCALENDAR
VERSION:2.0
PRODID:-//DeineSeite//Konzert Export//DE
BEGIN:VEVENT
UID:69e780b6757f5@deine-domain.de
DTSTAMP:20260421T135046
DTSTART:20240110T193000
DTEND:20240110T213000
SUMMARY:Philharmonic Five 
Neujahrskonzert
DESCRIPTION:
LOCATION:Kammermusiksaal
END:VEVENT
END:VCALENDAR